BEGIN:VCALENDAR
VERSION:2.0
PRODID:-//Kidz Link Alabama - ECPv6.15.20//NONSGML v1.0//EN
CALSCALE:GREGORIAN
METHOD:PUBLISH
X-WR-CALNAME:Kidz Link Alabama
X-ORIGINAL-URL:https://kidzlinkal.org
X-WR-CALDESC:Events for Kidz Link Alabama
REFRESH-INTERVAL;VALUE=DURATION:PT1H
X-Robots-Tag:noindex
X-PUBLISHED-TTL:PT1H
BEGIN:VTIMEZONE
TZID:America/Chicago
BEGIN:DAYLIGHT
TZOFFSETFROM:-0600
TZOFFSETTO:-0500
TZNAME:CDT
DTSTART:20250309T080000
END:DAYLIGHT
BEGIN:STANDARD
TZOFFSETFROM:-0500
TZOFFSETTO:-0600
TZNAME:CST
DTSTART:20251102T070000
END:STANDARD
BEGIN:DAYLIGHT
TZOFFSETFROM:-0600
TZOFFSETTO:-0500
TZNAME:CDT
DTSTART:20260308T080000
END:DAYLIGHT
BEGIN:STANDARD
TZOFFSETFROM:-0500
TZOFFSETTO:-0600
TZNAME:CST
DTSTART:20261101T070000
END:STANDARD
BEGIN:DAYLIGHT
TZOFFSETFROM:-0600
TZOFFSETTO:-0500
TZNAME:CDT
DTSTART:20270314T080000
END:DAYLIGHT
BEGIN:STANDARD
TZOFFSETFROM:-0500
TZOFFSETTO:-0600
TZNAME:CST
DTSTART:20271107T070000
END:STANDARD
END:VTIMEZONE
BEGIN:VEVENT
DTSTART;TZID=America/Chicago:20260421T160000
DTEND;TZID=America/Chicago:20260421T190000
DTSTAMP:20260421T013229
CREATED:20251008T210140Z
LAST-MODIFIED:20251008T210140Z
UID:10000106-1776787200-1776798000@kidzlinkal.org
SUMMARY:North East Regional Bible Drill and Speakers' Tournament
DESCRIPTION:The is the Regional Bible Drill and Speakers’ Tournament for the North East Region. Children\, youth\, high school\, and speakers who advanced through their church and association drills will be able to participate. There is no cost to participants\, but registration is required.
URL:https://kidzlinkal.org/event/north-east-regional-bible-drill-and-speakers-tournament-3/
LOCATION:Mt. Zion Baptist Church\, 101 Mt. Zion Church Road\, Alexandria\, AL\, 36250\, United States
ATTACH;FMTTYPE=image/webp:https://kidzlinkal.org/wp-content/uploads/2022/08/bible-drill.webp
ORGANIZER;CN="Belinda Stroud":MAILTO:bstroud@alsbom.org
END:VEVENT
END:VCALENDAR