BEGIN:VCALENDAR
VERSION:2.0
PRODID:-//Kidz Link Alabama - ECPv6.15.20//NONSGML v1.0//EN
CALSCALE:GREGORIAN
METHOD:PUBLISH
X-ORIGINAL-URL:https://kidzlinkal.org
X-WR-CALDESC:Events for Kidz Link Alabama
REFRESH-INTERVAL;VALUE=DURATION:PT1H
X-Robots-Tag:noindex
X-PUBLISHED-TTL:PT1H
BEGIN:VTIMEZONE
TZID:America/Chicago
BEGIN:DAYLIGHT
TZOFFSETFROM:-0600
TZOFFSETTO:-0500
TZNAME:CDT
DTSTART:20220313T080000
END:DAYLIGHT
BEGIN:STANDARD
TZOFFSETFROM:-0500
TZOFFSETTO:-0600
TZNAME:CST
DTSTART:20221106T070000
END:STANDARD
BEGIN:DAYLIGHT
TZOFFSETFROM:-0600
TZOFFSETTO:-0500
TZNAME:CDT
DTSTART:20230312T080000
END:DAYLIGHT
BEGIN:STANDARD
TZOFFSETFROM:-0500
TZOFFSETTO:-0600
TZNAME:CST
DTSTART:20231105T070000
END:STANDARD
BEGIN:DAYLIGHT
TZOFFSETFROM:-0600
TZOFFSETTO:-0500
TZNAME:CDT
DTSTART:20240310T080000
END:DAYLIGHT
BEGIN:STANDARD
TZOFFSETFROM:-0500
TZOFFSETTO:-0600
TZNAME:CST
DTSTART:20241103T070000
END:STANDARD
BEGIN:DAYLIGHT
TZOFFSETFROM:-0600
TZOFFSETTO:-0500
TZNAME:CDT
DTSTART:20250309T080000
END:DAYLIGHT
BEGIN:STANDARD
TZOFFSETFROM:-0500
TZOFFSETTO:-0600
TZNAME:CST
DTSTART:20251102T070000
END:STANDARD
END:VTIMEZONE
BEGIN:VEVENT
DTSTART;TZID=America/Chicago:20240309T090000
DTEND;TZID=America/Chicago:20240309T143000
DTSTAMP:20260424T195544
CREATED:20230525T155309Z
LAST-MODIFIED:20240306T153609Z
UID:10000066-1709974800-1709994600@kidzlinkal.org
SUMMARY:VBS Live - Cullman
DESCRIPTION:VBS LIVE is a free event. The event is designed to help encourage and equip Associational and Church VBS Directors and Leaders in preparation for Vacation Bible School in their churches and associations. A box lunch will be provided. \n\nRegistration has closed for this event.
URL:https://kidzlinkal.org/event/vbs-live-cullman/
LOCATION:Northbrook Baptist Church\, 3691 AL-157\, Cullman\, AL\, 35058\, United States
ATTACH;FMTTYPE=image/webp:https://kidzlinkal.org/wp-content/uploads/2023/05/1920X1080-VBS-2024-scaled.webp
ORGANIZER;CN="Patty Burns":MAILTO:pburns@alsbom.org
END:VEVENT
BEGIN:VEVENT
DTSTART;TZID=America/Chicago:20230218T083000
DTEND;TZID=America/Chicago:20230218T153000
DTSTAMP:20260424T195544
CREATED:20220926T214653Z
LAST-MODIFIED:20250829T171729Z
UID:10000063-1676709000-1676734200@kidzlinkal.org
SUMMARY:VBS Live
DESCRIPTION:VBS Live 2023 is a free event at multiple church locations throughout the state of Alabama. It is designed to help encourage and equip Associational and Church VBS Directors and Leaders in preparation for Vacation Bible School in their churches and Associations. Boxed lunch provided. \n\nFill out my online form.\n\n  Fill out my Wufoo form!
URL:https://kidzlinkal.org/event/vbs-live-2/
LOCATION:Northbrook Baptist Church\, 3691 AL-157\, Cullman\, AL\, 35058\, United States
ATTACH;FMTTYPE=image/webp:https://kidzlinkal.org/wp-content/uploads/2022/09/VBS-live-event-1920x1080-1.webp
ORGANIZER;CN="Ramona Noah":MAILTO:rnoah@alsbom.org
END:VEVENT
END:VCALENDAR